BEGIN:VCALENDAR
VERSION:2.0
PRODID:icalendar-ruby
CALSCALE:GREGORIAN
METHOD:PUBLISH
BEGIN:VEVENT
DTSTAMP:20260421T082937Z
UID:11-548186@saintmarkslutheran.com
DTSTART:20261101T133000Z
DTEND:20261101T143000Z
CLASS:PUBLIC
CREATED:20260420T203721
DESCRIPTION:Worship
LAST-MODIFIED:20260420T203721
LOCATION:
SUMMARY:Worship
URL;VALUE=URI:https://www.saintmarkslutheran.com/events/worship/2026-11-01
END:VEVENT
END:VCALENDAR
