BEGIN:VCALENDAR
VERSION:2.0
PRODID:icalendar-ruby
CALSCALE:GREGORIAN
METHOD:PUBLISH
BEGIN:VEVENT
DTSTAMP:20260421T065251Z
UID:11-548185@saintmarkslutheran.com
DTSTART:20261025T123000Z
DTEND:20261025T133000Z
CLASS:PUBLIC
CREATED:20260420T203721
DESCRIPTION:Worship
LAST-MODIFIED:20260420T203721
LOCATION:
SUMMARY:Worship
URL;VALUE=URI:https://www.saintmarkslutheran.com/events/worship/2026-10-25
END:VEVENT
END:VCALENDAR
