BEGIN:VCALENDAR
VERSION:2.0
PRODID:icalendar-ruby
CALSCALE:GREGORIAN
METHOD:PUBLISH
BEGIN:VEVENT
DTSTAMP:20260421T051932Z
UID:11-548184@saintmarkslutheran.com
DTSTART:20261018T123000Z
DTEND:20261018T133000Z
CLASS:PUBLIC
CREATED:20260420T203721
DESCRIPTION:Worship
LAST-MODIFIED:20260420T203721
LOCATION:
SUMMARY:Worship
URL;VALUE=URI:https://www.saintmarkslutheran.com/events/worship/2026-10-18
END:VEVENT
END:VCALENDAR
